BEGIN:VCALENDAR
VERSION:2.0
PRODID:-//Euro-Novex Utánpótlás Sport Egyesület - ECPv6.15.16//NONSGML v1.0//EN
CALSCALE:GREGORIAN
METHOD:PUBLISH
X-WR-CALNAME:Euro-Novex Utánpótlás Sport Egyesület
X-ORIGINAL-URL:https://www.enuse.hu
X-WR-CALDESC:Események Euro-Novex Utánpótlás Sport Egyesület
REFRESH-INTERVAL;VALUE=DURATION:PT1H
X-Robots-Tag:noindex
X-PUBLISHED-TTL:PT1H
BEGIN:VTIMEZONE
TZID:Europe/Budapest
BEGIN:DAYLIGHT
TZOFFSETFROM:+0100
TZOFFSETTO:+0200
TZNAME:CEST
DTSTART:20230326T010000
END:DAYLIGHT
BEGIN:STANDARD
TZOFFSETFROM:+0200
TZOFFSETTO:+0100
TZNAME:CET
DTSTART:20231029T010000
END:STANDARD
BEGIN:DAYLIGHT
TZOFFSETFROM:+0100
TZOFFSETTO:+0200
TZNAME:CEST
DTSTART:20240331T010000
END:DAYLIGHT
BEGIN:STANDARD
TZOFFSETFROM:+0200
TZOFFSETTO:+0100
TZNAME:CET
DTSTART:20241027T010000
END:STANDARD
BEGIN:DAYLIGHT
TZOFFSETFROM:+0100
TZOFFSETTO:+0200
TZNAME:CEST
DTSTART:20250330T010000
END:DAYLIGHT
BEGIN:STANDARD
TZOFFSETFROM:+0200
TZOFFSETTO:+0100
TZNAME:CET
DTSTART:20251026T010000
END:STANDARD
END:VTIMEZONE
BEGIN:VEVENT
DTSTART;TZID=Europe/Budapest:20241116T170000
DTEND;TZID=Europe/Budapest:20241116T183000
DTSTAMP:20260423T164726
CREATED:20240910T173742Z
LAST-MODIFIED:20240910T174926Z
UID:5016-1731776400-1731781800@www.enuse.hu
SUMMARY:U18 Balmazújvárosi LKSE - ENUSE
DESCRIPTION:A mérkőzés online jegyzőkönyve az alábbi linken érhető el: \nhttps://livescore.mksz.hu/32021287717/esemenyek
URL:https://www.enuse.hu/meccs/u18-balmazujvarosi-lkse-enuse/
LOCATION:Gizella utcai spcs. Debrecen
CATEGORIES:U18
END:VEVENT
BEGIN:VEVENT
DTSTART;TZID=Europe/Budapest:20241116T120000
DTEND;TZID=Europe/Budapest:20241116T133000
DTSTAMP:20260423T164726
CREATED:20240911T085132Z
LAST-MODIFIED:20240911T085132Z
UID:5047-1731758400-1731763800@www.enuse.hu
SUMMARY:U20 Kézilabda Egyesület Balmazújváros - ENUSE
DESCRIPTION:A mérkőzés online jegyzőkönyve az alábbi linken érhető el: \nhttps://livescore.mksz.hu/32021286931/esemenyek
URL:https://www.enuse.hu/meccs/u20-kezilabda-egyesulet-balmazujvaros-enuse/
LOCATION:Balmazújvárosi Rendezvénycsarnok Balmazújváros
CATEGORIES:U20
END:VEVENT
BEGIN:VEVENT
DTSTART;TZID=Europe/Budapest:20241109T160000
DTEND;TZID=Europe/Budapest:20241109T173000
DTSTAMP:20260423T164726
CREATED:20240911T165256Z
LAST-MODIFIED:20240911T165256Z
UID:5086-1731168000-1731173400@www.enuse.hu
SUMMARY:NB1/B ENUSE - Mohácsi TE 1888
DESCRIPTION:A mérkőzés online jegyzőkönyve az alábbi linken érhető el: \nhttps://livescore.mksz.hu/32021278460/esemenyek
URL:https://www.enuse.hu/meccs/nb1-b-enuse-mohacsi-te-1888/
LOCATION:Szászberek Sportcsarnok
CATEGORIES:NB1/B Felnőtt
END:VEVENT
BEGIN:VEVENT
DTSTART;TZID=Europe/Budapest:20241109T140000
DTEND;TZID=Europe/Budapest:20241109T153000
DTSTAMP:20260423T164726
CREATED:20240910T182937Z
LAST-MODIFIED:20240910T182937Z
UID:5045-1731160800-1731166200@www.enuse.hu
SUMMARY:U20 ENUSE - Borsod SK Kazincbarcika
DESCRIPTION:A mérkőzés online jegyzőkönyve az alábbi linken érhető el: \nhttps://livescore.mksz.hu/32021286901/esemenyek
URL:https://www.enuse.hu/meccs/u20-enuse-borsod-sk-kazincbarcika/
LOCATION:Szászberek Sportcsarnok
CATEGORIES:U20
END:VEVENT
BEGIN:VEVENT
DTSTART;TZID=Europe/Budapest:20241109T120000
DTEND;TZID=Europe/Budapest:20241109T133000
DTSTAMP:20260423T164726
CREATED:20240910T173331Z
LAST-MODIFIED:20240910T173331Z
UID:5014-1731153600-1731159000@www.enuse.hu
SUMMARY:U18 ENUSE - Borsod SK Kazincbarcika
DESCRIPTION:A mérkőzés online jegyzőkönyve az alábbi linken érhető el: \nhttps://livescore.mksz.hu/32021287702/esemenyek
URL:https://www.enuse.hu/meccs/u18-enuse-borsod-sk-kazincbarcika/
LOCATION:Szászberek Sportcsarnok
CATEGORIES:U18
END:VEVENT
BEGIN:VEVENT
DTSTART;TZID=Europe/Budapest:20241103T150000
DTEND;TZID=Europe/Budapest:20241103T163000
DTSTAMP:20260423T164726
CREATED:20240910T182626Z
LAST-MODIFIED:20240910T182626Z
UID:5043-1730646000-1730651400@www.enuse.hu
SUMMARY:U20 Eszterházy SC - ENUSE
DESCRIPTION:A mérkőzés online jegyzőkönyve az alábbi linken érhető el: \nhttps://livescore.mksz.hu/32021286895/esemenyek
URL:https://www.enuse.hu/meccs/u20-eszterhazy-sc-enuse/
LOCATION:Eszterházy Károly Katolikus Egyetem Sportcsarnok Eger
CATEGORIES:U20
END:VEVENT
BEGIN:VEVENT
DTSTART;TZID=Europe/Budapest:20241103T130000
DTEND;TZID=Europe/Budapest:20241103T143000
DTSTAMP:20260423T164726
CREATED:20241103T183151Z
LAST-MODIFIED:20240910T181014Z
UID:5011-1730638800-1730644200@www.enuse.hu
SUMMARY:U18 Eszterházy SC - ENUSE
DESCRIPTION:A mérkőzés online jegyzőkönyve az alábbi linken érhető el: \nhttps://livescore.mksz.hu/32021287678/esemenyek
URL:https://www.enuse.hu/meccs/u18-eszterhazy-sc-enuse/
LOCATION:Eszterházy Károly Katolikus Egyetem Sportcsarnok Eger
CATEGORIES:U18
END:VEVENT
BEGIN:VEVENT
DTSTART;TZID=Europe/Budapest:20241102T180000
DTEND;TZID=Europe/Budapest:20241102T193000
DTSTAMP:20260423T164726
CREATED:20240911T165059Z
LAST-MODIFIED:20240911T165059Z
UID:5083-1730570400-1730575800@www.enuse.hu
SUMMARY:NB1/B Kozármisleny KA - ENUSE
DESCRIPTION:A mérkőzés online jegyzőkönyve az alábbi linken érhető el: \nhttps://livescore.mksz.hu/32021278448/esemenyek
URL:https://www.enuse.hu/meccs/nb1-b-kozarmisleny-ka-enuse/
LOCATION:Városi Sportcsarnok Kozármisleny
CATEGORIES:NB1/B Felnőtt
END:VEVENT
BEGIN:VEVENT
DTSTART;TZID=Europe/Budapest:20241019T160000
DTEND;TZID=Europe/Budapest:20241019T173000
DTSTAMP:20260423T164726
CREATED:20240911T164839Z
LAST-MODIFIED:20240911T164839Z
UID:5081-1729353600-1729359000@www.enuse.hu
SUMMARY:NB1/B ENUSE - Érd
DESCRIPTION:A mérkőzés online jegyzőkönyve az alábbi linken érhető el: \nhttps://livescore.mksz.hu/32021278406/esemenyek
URL:https://www.enuse.hu/meccs/nb1-b-enuse-erd/
LOCATION:Szászberek Sportcsarnok
CATEGORIES:NB1/B Felnőtt
END:VEVENT
BEGIN:VEVENT
DTSTART;TZID=Europe/Budapest:20241019T140000
DTEND;TZID=Europe/Budapest:20241019T153000
DTSTAMP:20260423T164726
CREATED:20240910T182503Z
LAST-MODIFIED:20240910T182503Z
UID:5041-1729346400-1729351800@www.enuse.hu
SUMMARY:U20 ENUSE - Gödi SE
DESCRIPTION:A mérkőzés online jegyzőkönyve az alábbi linken érhető el: \nhttps://livescore.mksz.hu/32021286877/esemenyek
URL:https://www.enuse.hu/meccs/u20-enuse-godi-se/
LOCATION:Szászberek Sportcsarnok
CATEGORIES:U20
END:VEVENT
BEGIN:VEVENT
DTSTART;TZID=Europe/Budapest:20241019T120000
DTEND;TZID=Europe/Budapest:20241019T133000
DTSTAMP:20260423T164726
CREATED:20240910T173011Z
LAST-MODIFIED:20240910T173011Z
UID:5009-1729339200-1729344600@www.enuse.hu
SUMMARY:U18 ENUSE - Zengő Alföld Orosházi KCE
DESCRIPTION:A mérkőzés online jegyzőkönyve az alábbi linken érhető el: \nhttps://livescore.mksz.hu/32021287660/esemenyek
URL:https://www.enuse.hu/meccs/u18-enuse-zengo-alfold-oroshazi-kce/
LOCATION:Szászberek Sportcsarnok
CATEGORIES:U18
END:VEVENT
BEGIN:VEVENT
DTSTART;TZID=Europe/Budapest:20241012T160000
DTEND;TZID=Europe/Budapest:20241012T173000
DTSTAMP:20260423T164726
CREATED:20240911T164446Z
LAST-MODIFIED:20240911T164446Z
UID:5079-1728748800-1728754200@www.enuse.hu
SUMMARY:NB1/B ENUSE - Hajdúnánás Kézilabda NKFT
DESCRIPTION:A mérkőzés online jegyzőkönyve az alábbi linken érhető el: \nhttps://livescore.mksz.hu/32021278394/esemenyek \n 
URL:https://www.enuse.hu/meccs/nb1-b-enuse-hajdunanas-kezilabda-nkft/
LOCATION:Szászberek Sportcsarnok
CATEGORIES:NB1/B Felnőtt
END:VEVENT
BEGIN:VEVENT
DTSTART;TZID=Europe/Budapest:20241012T113000
DTEND;TZID=Europe/Budapest:20241012T123000
DTSTAMP:20260423T164726
CREATED:20241009T124352Z
LAST-MODIFIED:20241009T124352Z
UID:5251-1728732600-1728736200@www.enuse.hu
SUMMARY:U12 ENUSE -  Ceglédi Kék Cápák
DESCRIPTION:
URL:https://www.enuse.hu/meccs/u12-enuse-cegledi-kek-capak/
LOCATION:Homoki Sportcsarnok Tiszaföldvár
CATEGORIES:U12
END:VEVENT
BEGIN:VEVENT
DTSTART;TZID=Europe/Budapest:20241012T095000
DTEND;TZID=Europe/Budapest:20241012T105000
DTSTAMP:20260423T164726
CREATED:20241009T124217Z
LAST-MODIFIED:20241009T124231Z
UID:5248-1728726600-1728730200@www.enuse.hu
SUMMARY:U12 Alföldi Farkasok SE - ENUSE
DESCRIPTION:
URL:https://www.enuse.hu/meccs/u12-alfoldi-farkasok-se-enuse/
LOCATION:Homoki Sportcsarnok Tiszaföldvár
CATEGORIES:U12
END:VEVENT
BEGIN:VEVENT
DTSTART;TZID=Europe/Budapest:20241010T180000
DTEND;TZID=Europe/Budapest:20241010T193000
DTSTAMP:20260423T164726
CREATED:20241009T121550Z
LAST-MODIFIED:20241009T121550Z
UID:5246-1728583200-1728588600@www.enuse.hu
SUMMARY:U18 KIKI - ENUSE
DESCRIPTION:A mérkőzés online jegyzőkönyve az alábbi linken érhető el: \nhttps://livescore.mksz.hu/32021287741/esemenyek?_gl=1%2a1o9wgb6%2a_ga%2aMTc5MzcyMDgxMS4xNzI0OTM5OTMz%2a_ga_F85P2WH312%2aMTcyODQ3NDI3NC4yNi4xLjE3Mjg0NzYxMDIuMC4wLjIwNDQ0NzgwMzM. \n 
URL:https://www.enuse.hu/meccs/u18-kiki-enuse-2/
LOCATION:Táncsics Mihály Általános Iskola Sportcsarnok Izsák
CATEGORIES:U18
END:VEVENT
BEGIN:VEVENT
DTSTART;TZID=Europe/Budapest:20241006T130000
DTEND;TZID=Europe/Budapest:20241006T143000
DTSTAMP:20260423T164726
CREATED:20240910T182001Z
LAST-MODIFIED:20240910T182001Z
UID:5039-1728219600-1728225000@www.enuse.hu
SUMMARY:U20 FKSE-Algyő - ENUSE
DESCRIPTION:A mérkőzés online jegyzőkönyve az alábbi linken érhető el: \nhttps://livescore.mksz.hu/32021286850/esemenyek
URL:https://www.enuse.hu/meccs/u20-fkse-algyo-enuse/
LOCATION:Városi Stadion Szeged
CATEGORIES:U20
END:VEVENT
BEGIN:VEVENT
DTSTART;TZID=Europe/Budapest:20241006T110000
DTEND;TZID=Europe/Budapest:20241006T123000
DTSTAMP:20260423T164726
CREATED:20240910T172822Z
LAST-MODIFIED:20240910T172822Z
UID:5006-1728212400-1728217800@www.enuse.hu
SUMMARY:U18 FKSE-Algyő - ENUSE
DESCRIPTION:A mérkőzés online jegyzőkönyve az alábbi linken érhető el: \nhttps://livescore.mksz.hu/32021287633/esemenyek
URL:https://www.enuse.hu/meccs/u18-fkse-algyo-enuse/
LOCATION:Városi Stadion Szeged
CATEGORIES:U18
END:VEVENT
BEGIN:VEVENT
DTSTART;TZID=Europe/Budapest:20241005T180000
DTEND;TZID=Europe/Budapest:20241005T193000
DTSTAMP:20260423T164726
CREATED:20240911T164122Z
LAST-MODIFIED:20241001T121256Z
UID:5076-1728151200-1728156600@www.enuse.hu
SUMMARY:NB1/B Komárom VSE - ENUSE
DESCRIPTION:A mérkőzés online jegyzőkönyve az alábbi linken érhető el: \nhttps://livescore.mksz.hu/32021278367/esemenyek
URL:https://www.enuse.hu/meccs/nb1-b-komarom-vse-a-merkozes-online-jegyzokonyve-az-alabbi-linken-erheto-el-enuse/
LOCATION:Városi Sportcsarnok Komárom
CATEGORIES:NB1/B Felnőtt
END:VEVENT
BEGIN:VEVENT
DTSTART;TZID=Europe/Budapest:20240921T160000
DTEND;TZID=Europe/Budapest:20240921T173000
DTSTAMP:20260423T164726
CREATED:20240911T163833Z
LAST-MODIFIED:20240911T163833Z
UID:5074-1726934400-1726939800@www.enuse.hu
SUMMARY:NB1/B ENUSE - Zengő Alföld Orosházi Kézilabda Akadémia
DESCRIPTION:A mérkőzés online jegyzőkönyve az alábbi linken érhető el: \nhttps://livescore.mksz.hu/32021278340/esemenyek
URL:https://www.enuse.hu/meccs/nb1-b-enuse-zengo-alfold-oroshazi-kezilabda-akademia/
LOCATION:Szászberek Sportcsarnok
CATEGORIES:NB1/B Felnőtt
END:VEVENT
BEGIN:VEVENT
DTSTART;TZID=Europe/Budapest:20240921T140000
DTEND;TZID=Europe/Budapest:20240921T153000
DTSTAMP:20260423T164726
CREATED:20240910T181758Z
LAST-MODIFIED:20240910T181758Z
UID:5037-1726927200-1726932600@www.enuse.hu
SUMMARY:U20 ENUSE - Deszki SC
DESCRIPTION:A mérkőzés online jegyzőkönyve az alábbi linken érhető el: \nhttps://livescore.mksz.hu/32021286826/esemenyek
URL:https://www.enuse.hu/meccs/u20-enuse-deszki-sc/
LOCATION:Szászberek Sportcsarnok
CATEGORIES:U20
END:VEVENT
BEGIN:VEVENT
DTSTART;TZID=Europe/Budapest:20240921T120000
DTEND;TZID=Europe/Budapest:20240921T133000
DTSTAMP:20260423T164726
CREATED:20240910T172524Z
LAST-MODIFIED:20240910T172618Z
UID:5003-1726920000-1726925400@www.enuse.hu
SUMMARY:U18 ENUSE - Hódmezővásárhelyi LKC
DESCRIPTION:A mérkőzés online jegyzőkönyve az alábbi linken érhető el: \nhttps://livescore.mksz.hu/32021287624/esemenyek
URL:https://www.enuse.hu/meccs/u18-enuse-hodmezovasarhelyi-lkc/
LOCATION:Szászberek Sportcsarnok
CATEGORIES:U18
END:VEVENT
BEGIN:VEVENT
DTSTART;TZID=Europe/Budapest:20240915T180000
DTEND;TZID=Europe/Budapest:20240915T193000
DTSTAMP:20260423T164726
CREATED:20240911T094013Z
LAST-MODIFIED:20240911T094013Z
UID:5070-1726423200-1726428600@www.enuse.hu
SUMMARY:NB1/B Tempo KSE - ENUSE
DESCRIPTION:A mérkőzés online jegyzőkönyve az alábbi linken érhető el: \nhttps://livescore.mksz.hu/32021278328/esemenyek
URL:https://www.enuse.hu/meccs/nb1-b-tempo-kse-enuse/
LOCATION:Gyáli Sportcsarnok és Kézilabda Képzési Központ Gyál
CATEGORIES:NB1/B Felnőtt
END:VEVENT
BEGIN:VEVENT
DTSTART;TZID=Europe/Budapest:20240912T173000
DTEND;TZID=Europe/Budapest:20240912T190000
DTSTAMP:20260423T164726
CREATED:20240910T172401Z
LAST-MODIFIED:20240910T172401Z
UID:5000-1726162200-1726167600@www.enuse.hu
SUMMARY:U18 Mezőkövesdi KC - ENUSE
DESCRIPTION:A mérkőzés online jegyzőkönyve az alábbi linken érhető el: \nhttps://livescore.mksz.hu/32021287600/esemenyek
URL:https://www.enuse.hu/meccs/u18-mezokovesdi-kc-enuse/
LOCATION:Városi Sportcsarnok Mezőkövesd
CATEGORIES:U18
END:VEVENT
BEGIN:VEVENT
DTSTART;TZID=Europe/Budapest:20240912T140000
DTEND;TZID=Europe/Budapest:20240912T153000
DTSTAMP:20260423T164726
CREATED:20240910T181629Z
LAST-MODIFIED:20240910T181629Z
UID:5034-1726149600-1726155000@www.enuse.hu
SUMMARY:U20 Füzesabonyi SC - ENUSE
DESCRIPTION:A mérkőzés online jegyzőkönyve az alábbi linken érhető el: \nhttps://livescore.mksz.hu/32021286817/esemenyek
URL:https://www.enuse.hu/meccs/u20-fuzesabonyi-sc-enuse/
LOCATION:Teleki Blanka Általános Iskola Sportcsarnok Füzesabony
CATEGORIES:U20
END:VEVENT
BEGIN:VEVENT
DTSTART;TZID=Europe/Budapest:20240907T160000
DTEND;TZID=Europe/Budapest:20240907T173000
DTSTAMP:20260423T164726
CREATED:20240911T093625Z
LAST-MODIFIED:20240911T094150Z
UID:5068-1725724800-1725730200@www.enuse.hu
SUMMARY:NB1/B ENUSE - NEKA
DESCRIPTION:A mérkőzés online jegyzőkönyve az alábbi linken érhető el: \nhttps://livescore.mksz.hu/32021278283/esemenyek
URL:https://www.enuse.hu/meccs/nb1b-enuse-neka/
LOCATION:Szászberek Sportcsarnok
CATEGORIES:NB1/B Felnőtt
END:VEVENT
BEGIN:VEVENT
DTSTART;TZID=Europe/Budapest:20240907T140000
DTEND;TZID=Europe/Budapest:20240907T153000
DTSTAMP:20260423T164726
CREATED:20240910T181503Z
LAST-MODIFIED:20240910T181503Z
UID:5032-1725717600-1725723000@www.enuse.hu
SUMMARY:U20 ENUSE - Gyöngyösi KK
DESCRIPTION:A mérkőzés online jegyzőkönyve az alábbi linken érhető el: \nhttps://livescore.mksz.hu/32021286796/esemenyek
URL:https://www.enuse.hu/meccs/u20-enuse-gyongyosi-kk/
LOCATION:Szászberek Sportcsarnok
CATEGORIES:U20
END:VEVENT
BEGIN:VEVENT
DTSTART;TZID=Europe/Budapest:20240907T120000
DTEND;TZID=Europe/Budapest:20240907T133000
DTSTAMP:20260423T164726
CREATED:20240910T171952Z
LAST-MODIFIED:20240910T171952Z
UID:4997-1725710400-1725715800@www.enuse.hu
SUMMARY:U18 ENUSE - XVI Ker KMSE
DESCRIPTION:A mérkőzés online jegyzőkönyve az alábbi linken érhető el: \nhttps://livescore.mksz.hu/32021287579/esemenyek
URL:https://www.enuse.hu/meccs/u18-enuse-xvi-ker-kmse/
LOCATION:Szászberek Sportcsarnok
CATEGORIES:U18
END:VEVENT
BEGIN:VEVENT
DTSTART;TZID=Europe/Budapest:20240526T124500
DTEND;TZID=Europe/Budapest:20240526T134500
DTSTAMP:20260423T164726
CREATED:20240502T100422Z
LAST-MODIFIED:20240502T100422Z
UID:4811-1716727500-1716731100@www.enuse.hu
SUMMARY:U11 ENUSE II.-INÁRCS-ÖRKÉNY KCE
DESCRIPTION:
URL:https://www.enuse.hu/meccs/u11-enuse-ii-inarcs-orkeny-kce/
LOCATION:Inárcs\, Hársfa u.58
CATEGORIES:U11
END:VEVENT
BEGIN:VEVENT
DTSTART;TZID=Europe/Budapest:20240526T120000
DTEND;TZID=Europe/Budapest:20240526T130000
DTSTAMP:20260423T164726
CREATED:20240502T100335Z
LAST-MODIFIED:20240502T100335Z
UID:4809-1716724800-1716728400@www.enuse.hu
SUMMARY:U11 GYÖMRŐI KA.-ENUSE I.
DESCRIPTION:
URL:https://www.enuse.hu/meccs/u11-gyomroi-ka-enuse-i/
LOCATION:Inárcs\, Hársfa u.58
CATEGORIES:U11
END:VEVENT
BEGIN:VEVENT
DTSTART;TZID=Europe/Budapest:20240526T111500
DTEND;TZID=Europe/Budapest:20240526T121500
DTSTAMP:20260423T164726
CREATED:20240502T100250Z
LAST-MODIFIED:20240502T100250Z
UID:4807-1716722100-1716725700@www.enuse.hu
SUMMARY:U11 ARANYSZARVAS SE-ENUSE II.
DESCRIPTION:
URL:https://www.enuse.hu/meccs/u11-aranyszarvas-se-enuse-ii/
LOCATION:Inárcs\, Hársfa u.58
CATEGORIES:U11
END:VEVENT
END:VCALENDAR