BEGIN:VCALENDAR
VERSION:2.0
PRODID:-//Euro-Novex Utánpótlás Sport Egyesület - ECPv6.15.16//NONSGML v1.0//EN
CALSCALE:GREGORIAN
METHOD:PUBLISH
X-ORIGINAL-URL:https://www.enuse.hu
X-WR-CALDESC:Események Euro-Novex Utánpótlás Sport Egyesület
REFRESH-INTERVAL;VALUE=DURATION:PT1H
X-Robots-Tag:noindex
X-PUBLISHED-TTL:PT1H
BEGIN:VTIMEZONE
TZID:Europe/Budapest
BEGIN:DAYLIGHT
TZOFFSETFROM:+0100
TZOFFSETTO:+0200
TZNAME:CEST
DTSTART:20230326T010000
END:DAYLIGHT
BEGIN:STANDARD
TZOFFSETFROM:+0200
TZOFFSETTO:+0100
TZNAME:CET
DTSTART:20231029T010000
END:STANDARD
BEGIN:DAYLIGHT
TZOFFSETFROM:+0100
TZOFFSETTO:+0200
TZNAME:CEST
DTSTART:20240331T010000
END:DAYLIGHT
BEGIN:STANDARD
TZOFFSETFROM:+0200
TZOFFSETTO:+0100
TZNAME:CET
DTSTART:20241027T010000
END:STANDARD
BEGIN:DAYLIGHT
TZOFFSETFROM:+0100
TZOFFSETTO:+0200
TZNAME:CEST
DTSTART:20250330T010000
END:DAYLIGHT
BEGIN:STANDARD
TZOFFSETFROM:+0200
TZOFFSETTO:+0100
TZNAME:CET
DTSTART:20251026T010000
END:STANDARD
END:VTIMEZONE
BEGIN:VEVENT
DTSTART;TZID=Europe/Budapest:20240523T143000
DTEND;TZID=Europe/Budapest:20240523T160000
DTSTAMP:20260423T220905
CREATED:20240502T095528Z
LAST-MODIFIED:20240502T100505Z
UID:4793-1716474600-1716480000@www.enuse.hu
SUMMARY:U17 ALGYŐ-ENUSE
DESCRIPTION:
URL:https://www.enuse.hu/meccs/lu17-algyo-enuse/
LOCATION:Szeged\, Etelka sor 3-5
CATEGORIES:U17
END:VEVENT
BEGIN:VEVENT
DTSTART;TZID=Europe/Budapest:20240518T150000
DTEND;TZID=Europe/Budapest:20240518T163000
DTSTAMP:20260423T220905
CREATED:20240502T095323Z
LAST-MODIFIED:20240502T100522Z
UID:4790-1716044400-1716049800@www.enuse.hu
SUMMARY:U19  KE BALMAZÚJVÁROS-ENUSE
DESCRIPTION:
URL:https://www.enuse.hu/meccs/lu19-ke-balmazujvaros-enuse/
LOCATION:Balmazújváros\, Kastélykert u. 3.
CATEGORIES:U19
END:VEVENT
BEGIN:VEVENT
DTSTART;TZID=Europe/Budapest:20240518T130000
DTEND;TZID=Europe/Budapest:20240518T143000
DTSTAMP:20260423T220905
CREATED:20240502T095223Z
LAST-MODIFIED:20240502T095223Z
UID:4786-1716037200-1716042600@www.enuse.hu
SUMMARY:NB2 FKSE-ALGYŐ-ENUSE
DESCRIPTION:
URL:https://www.enuse.hu/meccs/nb2-fkse-algyo-enuse/
LOCATION:Szeged\, Etelka sor 3-5
CATEGORIES:Felnőtt
END:VEVENT
BEGIN:VEVENT
DTSTART;TZID=Europe/Budapest:20240515T160000
DTEND;TZID=Europe/Budapest:20240515T173000
DTSTAMP:20260423T220905
CREATED:20240502T095016Z
LAST-MODIFIED:20240502T100542Z
UID:4784-1715788800-1715794200@www.enuse.hu
SUMMARY:U17 ENUSE-PRAKTIKER VÁC
DESCRIPTION:
URL:https://www.enuse.hu/meccs/lu17-enuse-praktiker-vac/
LOCATION:Szászberek Sportcsarnok
CATEGORIES:U17
END:VEVENT
BEGIN:VEVENT
DTSTART;TZID=Europe/Budapest:20240512T133500
DTEND;TZID=Europe/Budapest:20240512T142000
DTSTAMP:20260423T220905
CREATED:20240502T094934Z
LAST-MODIFIED:20240502T100550Z
UID:4782-1715520900-1715523600@www.enuse.hu
SUMMARY:U12  ARANYSZARVAS-ENUSE I.
DESCRIPTION:
URL:https://www.enuse.hu/meccs/lu12-aranyszarvas-enuse-i/
LOCATION:Kóka\, Kossuth Lajos u. 2
CATEGORIES:U12
END:VEVENT
BEGIN:VEVENT
DTSTART;TZID=Europe/Budapest:20240512T114500
DTEND;TZID=Europe/Budapest:20240512T123000
DTSTAMP:20260423T220905
CREATED:20240502T094838Z
LAST-MODIFIED:20240502T100605Z
UID:4780-1715514300-1715517000@www.enuse.hu
SUMMARY:U12 ENUSE II.-ARANYSZARVAS
DESCRIPTION:
URL:https://www.enuse.hu/meccs/u12-enuse-ii-aranyszarvas/
LOCATION:Kóka\, Kossuth Lajos u. 2
CATEGORIES:U12
END:VEVENT
BEGIN:VEVENT
DTSTART;TZID=Europe/Budapest:20240512T105000
DTEND;TZID=Europe/Budapest:20240512T113500
DTSTAMP:20260423T220905
CREATED:20240502T094800Z
LAST-MODIFIED:20240502T100613Z
UID:4778-1715511000-1715513700@www.enuse.hu
SUMMARY:U12  ENUSE I.-ABONY
DESCRIPTION:
URL:https://www.enuse.hu/meccs/lu12-enuse-i-abony/
LOCATION:Kóka\, Kossuth Lajos u. 2
CATEGORIES:U12
END:VEVENT
BEGIN:VEVENT
DTSTART;TZID=Europe/Budapest:20240512T095500
DTEND;TZID=Europe/Budapest:20240512T104000
DTSTAMP:20260423T220905
CREATED:20240502T094715Z
LAST-MODIFIED:20240502T100621Z
UID:4775-1715507700-1715510400@www.enuse.hu
SUMMARY:U12  ENUSE II.-DABAS
DESCRIPTION:
URL:https://www.enuse.hu/meccs/lu12-enuse-ii-dabas/
LOCATION:Kóka\, Kossuth Lajos u. 2
CATEGORIES:U12
END:VEVENT
BEGIN:VEVENT
DTSTART;TZID=Europe/Budapest:20240511T170000
DTEND;TZID=Europe/Budapest:20240511T183000
DTSTAMP:20260423T220905
CREATED:20240502T094602Z
LAST-MODIFIED:20240502T094602Z
UID:4772-1715446800-1715452200@www.enuse.hu
SUMMARY:NB2 SZARVASI NKK-ENUSE
DESCRIPTION:
URL:https://www.enuse.hu/meccs/nb2-szarvasi-nkk-enuse/
LOCATION:Szarvas
CATEGORIES:Felnőtt
END:VEVENT
BEGIN:VEVENT
DTSTART;TZID=Europe/Budapest:20240511T120000
DTEND;TZID=Europe/Budapest:20240511T133000
DTSTAMP:20260423T220905
CREATED:20240502T094517Z
LAST-MODIFIED:20240502T100629Z
UID:4770-1715428800-1715434200@www.enuse.hu
SUMMARY:U19  ENUSE-GYÖNGYÖSI KK
DESCRIPTION:
URL:https://www.enuse.hu/meccs/lu19-enuse-gyongyosi-kk/
LOCATION:Szászberek Sportcsarnok
CATEGORIES:U19
END:VEVENT
BEGIN:VEVENT
DTSTART;TZID=Europe/Budapest:20240511T110000
DTEND;TZID=Europe/Budapest:20240511T120000
DTSTAMP:20260423T220905
CREATED:20240502T094426Z
LAST-MODIFIED:20240502T100641Z
UID:4768-1715425200-1715428800@www.enuse.hu
SUMMARY:U14 ABONY-ENUSE
DESCRIPTION:
URL:https://www.enuse.hu/meccs/lu14-abony-enuse/
LOCATION:Inárcs\, Hársfa u.58
CATEGORIES:U14
END:VEVENT
BEGIN:VEVENT
DTSTART;TZID=Europe/Budapest:20240511T090000
DTEND;TZID=Europe/Budapest:20240511T100000
DTSTAMP:20260423T220905
CREATED:20240502T094346Z
LAST-MODIFIED:20240502T100737Z
UID:4766-1715418000-1715421600@www.enuse.hu
SUMMARY:U14 INÁRCS-ÖRKÉNY-ENUSE
DESCRIPTION:
URL:https://www.enuse.hu/meccs/lu14-inarcs-orkeny-enuse/
LOCATION:Inárcs\, Hársfa u.58
CATEGORIES:U14
END:VEVENT
BEGIN:VEVENT
DTSTART;TZID=Europe/Budapest:20240508T160000
DTEND;TZID=Europe/Budapest:20240508T173000
DTSTAMP:20260423T220905
CREATED:20240502T094250Z
LAST-MODIFIED:20240502T100747Z
UID:4764-1715184000-1715189400@www.enuse.hu
SUMMARY:U17 ENUSE-Zengő Alföld Orosházi KC
DESCRIPTION:
URL:https://www.enuse.hu/meccs/lu17-enuse-zengo-alfold-oroshazi-kc/
LOCATION:Szászberek Sportcsarnok
CATEGORIES:U17
END:VEVENT
BEGIN:VEVENT
DTSTART;TZID=Europe/Budapest:20240505T143000
DTEND;TZID=Europe/Budapest:20240505T153000
DTSTAMP:20260423T220905
CREATED:20240502T094038Z
LAST-MODIFIED:20240502T100752Z
UID:4761-1714919400-1714923000@www.enuse.hu
SUMMARY:U13 KECSKEMÉTI SPORTISKOLA-ENUSE II.
DESCRIPTION:
URL:https://www.enuse.hu/meccs/lu13-kecskemeti-sportiskola-enuse-ii/
LOCATION:Lajosmizse
CATEGORIES:U13
END:VEVENT
BEGIN:VEVENT
DTSTART;TZID=Europe/Budapest:20240505T124000
DTEND;TZID=Europe/Budapest:20240505T134000
DTSTAMP:20260423T220905
CREATED:20240502T093954Z
LAST-MODIFIED:20240502T100856Z
UID:4759-1714912800-1714916400@www.enuse.hu
SUMMARY:U13 ENUSE II.-KECSKEMÉTI NKSE
DESCRIPTION:
URL:https://www.enuse.hu/meccs/lu13-enuse-ii-kecskemeti-nkse/
LOCATION:Lajosmizse
CATEGORIES:U13
END:VEVENT
BEGIN:VEVENT
DTSTART;TZID=Europe/Budapest:20240505T114500
DTEND;TZID=Europe/Budapest:20240505T124500
DTSTAMP:20260423T220905
CREATED:20240502T093906Z
LAST-MODIFIED:20240502T093906Z
UID:4757-1714909500-1714913100@www.enuse.hu
SUMMARY:U13 ENUSE I.-KECSKEMÉTI SPORTISKOLA
DESCRIPTION:
URL:https://www.enuse.hu/meccs/u13-enuse-i-kecskemeti-sportiskola/
LOCATION:Lajosmizse
CATEGORIES:U13
END:VEVENT
BEGIN:VEVENT
DTSTART;TZID=Europe/Budapest:20240505T095500
DTEND;TZID=Europe/Budapest:20240505T105500
DTSTAMP:20260423T220905
CREATED:20240502T093811Z
LAST-MODIFIED:20240502T093811Z
UID:4754-1714902900-1714906500@www.enuse.hu
SUMMARY:U13 AKC-ENUSE I.
DESCRIPTION:
URL:https://www.enuse.hu/meccs/u13-akc-enuse-i/
LOCATION:Lajosmizse
CATEGORIES:U13
END:VEVENT
BEGIN:VEVENT
DTSTART;TZID=Europe/Budapest:20240504T160000
DTEND;TZID=Europe/Budapest:20240504T173000
DTSTAMP:20260423T220905
CREATED:20240502T093604Z
LAST-MODIFIED:20240502T093604Z
UID:4750-1714838400-1714843800@www.enuse.hu
SUMMARY:NB2 ENUSE-BÉKÉSCSABA U21
DESCRIPTION:
URL:https://www.enuse.hu/meccs/nb2-enuse-bekescsaba-u21/
LOCATION:Szászberek Sportcsarnok
CATEGORIES:Felnőtt
END:VEVENT
BEGIN:VEVENT
DTSTART;TZID=Europe/Budapest:20240424T170000
DTEND;TZID=Europe/Budapest:20240424T180000
DTSTAMP:20260423T220905
CREATED:20240415T135115Z
LAST-MODIFIED:20240415T135750Z
UID:4712-1713978000-1713981600@www.enuse.hu
SUMMARY:U17 KECSKEMÉT-ENUSE
DESCRIPTION:
URL:https://www.enuse.hu/meccs/kecskemet-enuse/
LOCATION:Kecskemét\, Tóth László stny. 2\, 6000
CATEGORIES:U17
END:VEVENT
BEGIN:VEVENT
DTSTART;TZID=Europe/Budapest:20240421T143000
DTEND;TZID=Europe/Budapest:20240421T160000
DTSTAMP:20260423T220905
CREATED:20240415T135022Z
LAST-MODIFIED:20240415T135802Z
UID:4709-1713709800-1713715200@www.enuse.hu
SUMMARY:U19 FKSE ALGYŐ-ENUSE
DESCRIPTION:
URL:https://www.enuse.hu/meccs/fkse-algyo-enuse/
LOCATION:Szeged\, Felső Tisza-part 1-3.\, 6723
CATEGORIES:U19
END:VEVENT
BEGIN:VEVENT
DTSTART;TZID=Europe/Budapest:20240420T160000
DTEND;TZID=Europe/Budapest:20240420T173000
DTSTAMP:20260423T220905
CREATED:20240415T134921Z
LAST-MODIFIED:20240415T135820Z
UID:4707-1713628800-1713634200@www.enuse.hu
SUMMARY:NB2 ENUSE-FKSE-ALGYŐ
DESCRIPTION:
URL:https://www.enuse.hu/meccs/enuse-fkse-algyo/
LOCATION:Szászberek Sportcsarnok
CATEGORIES:Felnőtt
END:VEVENT
BEGIN:VEVENT
DTSTART;TZID=Europe/Budapest:20240420T120000
DTEND;TZID=Europe/Budapest:20240420T130000
DTSTAMP:20260423T220905
CREATED:20240415T134606Z
LAST-MODIFIED:20240415T135832Z
UID:4701-1713614400-1713618000@www.enuse.hu
SUMMARY:U11 ENUSE I.-MAGLÓDI TC
DESCRIPTION:
URL:https://www.enuse.hu/meccs/enuse-i-maglodi-tc/
LOCATION:Tápiószentmárton\, Bartók Béla út 5/A\, 2711
CATEGORIES:U11
END:VEVENT
BEGIN:VEVENT
DTSTART;TZID=Europe/Budapest:20240420T111500
DTEND;TZID=Europe/Budapest:20240420T121500
DTSTAMP:20260423T220905
CREATED:20240415T134524Z
LAST-MODIFIED:20240415T135842Z
UID:4699-1713611700-1713615300@www.enuse.hu
SUMMARY:U11 ENUSE II.-GYÖMRŐ KA
DESCRIPTION:
URL:https://www.enuse.hu/meccs/enuse-ii-gyomro-ka/
LOCATION:Tápiószentmárton\, Bartók Béla út 5/A\, 2711
CATEGORIES:U11
END:VEVENT
BEGIN:VEVENT
DTSTART;TZID=Europe/Budapest:20240420T105000
DTEND;TZID=Europe/Budapest:20240420T113500
DTSTAMP:20260423T220905
CREATED:20240415T134440Z
LAST-MODIFIED:20240415T135853Z
UID:4697-1713610200-1713612900@www.enuse.hu
SUMMARY:U13 KISPEST - ENUSE I.
DESCRIPTION:
URL:https://www.enuse.hu/meccs/kispest-enuse-i/
LOCATION:Inárcs\, Hársfa u.58
CATEGORIES:U13
END:VEVENT
BEGIN:VEVENT
DTSTART;TZID=Europe/Budapest:20240420T103000
DTEND;TZID=Europe/Budapest:20240420T113000
DTSTAMP:20260423T220905
CREATED:20240415T134348Z
LAST-MODIFIED:20240415T135911Z
UID:4695-1713609000-1713612600@www.enuse.hu
SUMMARY:U11 INÁRCS-ÖRKÉNY KCE-ENUSE I.
DESCRIPTION:
URL:https://www.enuse.hu/meccs/inarcs-orkeny-kce-enuse-i/
LOCATION:Tápiószentmárton\, Bartók Béla út 5/A\, 2711
CATEGORIES:U11
END:VEVENT
BEGIN:VEVENT
DTSTART;TZID=Europe/Budapest:20240420T095000
DTEND;TZID=Europe/Budapest:20240420T103500
DTSTAMP:20260423T220905
CREATED:20240415T134301Z
LAST-MODIFIED:20240415T135924Z
UID:4692-1713606600-1713609300@www.enuse.hu
SUMMARY:U13 ENUSE II - HARTA
DESCRIPTION:
URL:https://www.enuse.hu/meccs/enuse-ii-harta/
LOCATION:Inárcs\, Hársfa u.58
CATEGORIES:U13
END:VEVENT
BEGIN:VEVENT
DTSTART;TZID=Europe/Budapest:20240420T094500
DTEND;TZID=Europe/Budapest:20240420T104500
DTSTAMP:20260423T220905
CREATED:20240415T134155Z
LAST-MODIFIED:20240415T140338Z
UID:4689-1713606300-1713609900@www.enuse.hu
SUMMARY:U11 MAGLÓDI TC-ENUSE II.
DESCRIPTION:
URL:https://www.enuse.hu/meccs/maglodi-tc-enuse-ii/
LOCATION:Tápiószentmárton\, Bartók Béla út 5/A\, 2711
CATEGORIES:U11
END:VEVENT
BEGIN:VEVENT
DTSTART;TZID=Europe/Budapest:20240417T160000
DTEND;TZID=Europe/Budapest:20240417T173000
DTSTAMP:20260423T220905
CREATED:20240415T134002Z
LAST-MODIFIED:20240415T140357Z
UID:4687-1713369600-1713375000@www.enuse.hu
SUMMARY:U17 ENUSE-BÉKÉSCSABA
DESCRIPTION:
URL:https://www.enuse.hu/meccs/enuse-bekescsaba/
LOCATION:Szászberek Sportcsarnok
CATEGORIES:U17
END:VEVENT
BEGIN:VEVENT
DTSTART;TZID=Europe/Budapest:20240415T135000
DTEND;TZID=Europe/Budapest:20240415T145000
DTSTAMP:20260423T220905
CREATED:20240415T134739Z
LAST-MODIFIED:20240415T140408Z
UID:4705-1713189000-1713192600@www.enuse.hu
SUMMARY:U13 ENUSE II. - SZEGED
DESCRIPTION:
URL:https://www.enuse.hu/meccs/enuse-ii-szeged/
LOCATION:Inárcs\, Hársfa u.58
CATEGORIES:U13
END:VEVENT
BEGIN:VEVENT
DTSTART;TZID=Europe/Budapest:20240415T125000
DTEND;TZID=Europe/Budapest:20240415T133500
DTSTAMP:20260423T220905
CREATED:20240415T134657Z
LAST-MODIFIED:20240415T140423Z
UID:4703-1713185400-1713188100@www.enuse.hu
SUMMARY:U13 ENUSE I. - HARTA
DESCRIPTION:
URL:https://www.enuse.hu/meccs/enuse-i-harta/
LOCATION:Inárcs\, Hársfa u.58
CATEGORIES:U13
END:VEVENT
END:VCALENDAR